BEGIN:VCALENDAR
VERSION:2.0
PRODID:-//Linkview Drive - ECPv6.15.20//NONSGML v1.0//EN
CALSCALE:GREGORIAN
METHOD:PUBLISH
X-ORIGINAL-URL:https://linkview.org
X-WR-CALDESC:Events for Linkview Drive
REFRESH-INTERVAL;VALUE=DURATION:PT1H
X-Robots-Tag:noindex
X-PUBLISHED-TTL:PT1H
BEGIN:VTIMEZONE
TZID:UTC
BEGIN:STANDARD
TZOFFSETFROM:+0000
TZOFFSETTO:+0000
TZNAME:UTC
DTSTART:20230101T000000
END:STANDARD
END:VTIMEZONE
BEGIN:VTIMEZONE
TZID:America/Los_Angeles
BEGIN:DAYLIGHT
TZOFFSETFROM:-0800
TZOFFSETTO:-0700
TZNAME:PDT
DTSTART:20240310T100000
END:DAYLIGHT
BEGIN:STANDARD
TZOFFSETFROM:-0700
TZOFFSETTO:-0800
TZNAME:PST
DTSTART:20241103T090000
END:STANDARD
BEGIN:DAYLIGHT
TZOFFSETFROM:-0800
TZOFFSETTO:-0700
TZNAME:PDT
DTSTART:20250309T100000
END:DAYLIGHT
BEGIN:STANDARD
TZOFFSETFROM:-0700
TZOFFSETTO:-0800
TZNAME:PST
DTSTART:20251102T090000
END:STANDARD
BEGIN:DAYLIGHT
TZOFFSETFROM:-0800
TZOFFSETTO:-0700
TZNAME:PDT
DTSTART:20260308T100000
END:DAYLIGHT
BEGIN:STANDARD
TZOFFSETFROM:-0700
TZOFFSETTO:-0800
TZNAME:PST
DTSTART:20261101T090000
END:STANDARD
END:VTIMEZONE
BEGIN:VEVENT
DTSTART;TZID=UTC:20250130T000000
DTEND;TZID=UTC:20250130T235959
DTSTAMP:20260423T094412
CREATED:20250116T224344Z
LAST-MODIFIED:20250116T224344Z
UID:105-1738195200-1738281599@linkview.org
SUMMARY:Landscapers
DESCRIPTION:
URL:https://linkview.org/event/landscapers-4/
END:VEVENT
BEGIN:VEVENT
DTSTART;TZID=UTC:20250128T000000
DTEND;TZID=UTC:20250128T235959
DTSTAMP:20260423T094412
CREATED:20250116T224344Z
LAST-MODIFIED:20250116T224344Z
UID:104-1738022400-1738108799@linkview.org
SUMMARY:Trash Pickup
DESCRIPTION:
URL:https://linkview.org/event/trash-pickup-3/
END:VEVENT
BEGIN:VEVENT
DTSTART;TZID=America/Los_Angeles:20250127T073000
DTEND;TZID=America/Los_Angeles:20250131T150000
DTSTAMP:20260423T094412
CREATED:20250124T040859Z
LAST-MODIFIED:20250124T041227Z
UID:329-1737963000-1738335600@linkview.org
SUMMARY:Tree Pruning & Removals - First Choice Trees
DESCRIPTION:
URL:https://linkview.org/event/tree-removals-first-choice-trees/
LOCATION:Linkview
ORGANIZER;CN="Cecile Levin":MAILTO:LinkviewMatters@outlook.com
END:VEVENT
BEGIN:VEVENT
DTSTART;TZID=UTC:20250123T000000
DTEND;TZID=UTC:20250123T235959
DTSTAMP:20260423T094412
CREATED:20250116T224343Z
LAST-MODIFIED:20250116T224343Z
UID:103-1737590400-1737676799@linkview.org
SUMMARY:Landscapers
DESCRIPTION:
URL:https://linkview.org/event/landscapers-3/
END:VEVENT
BEGIN:VEVENT
DTSTART;TZID=UTC:20250121T000000
DTEND;TZID=UTC:20250121T235959
DTSTAMP:20260423T094412
CREATED:20250116T224343Z
LAST-MODIFIED:20250116T224343Z
UID:102-1737417600-1737503999@linkview.org
SUMMARY:Trash Pickup / Bulk Day
DESCRIPTION:
URL:https://linkview.org/event/trash-pickup-bulk-day-2/
END:VEVENT
BEGIN:VEVENT
DTSTART;TZID=UTC:20250116T000000
DTEND;TZID=UTC:20250116T235959
DTSTAMP:20260423T094412
CREATED:20250116T224343Z
LAST-MODIFIED:20250116T224343Z
UID:101-1736985600-1737071999@linkview.org
SUMMARY:Landscapers
DESCRIPTION:
URL:https://linkview.org/event/landscapers-2/
END:VEVENT
BEGIN:VEVENT
DTSTART;TZID=UTC:20250114T000000
DTEND;TZID=UTC:20250114T235959
DTSTAMP:20260423T094412
CREATED:20250116T224343Z
LAST-MODIFIED:20250116T224343Z
UID:100-1736812800-1736899199@linkview.org
SUMMARY:Trash Pickup
DESCRIPTION:
URL:https://linkview.org/event/trash-pickup-2/
END:VEVENT
BEGIN:VEVENT
DTSTART;TZID=UTC:20250110T000000
DTEND;TZID=UTC:20250110T235959
DTSTAMP:20260423T094412
CREATED:20250116T224343Z
LAST-MODIFIED:20250116T224343Z
UID:99-1736467200-1736553599@linkview.org
SUMMARY:Tree Pruning / Tent.
DESCRIPTION:
URL:https://linkview.org/event/tree-pruning-tent/
END:VEVENT
BEGIN:VEVENT
DTSTART;TZID=UTC:20250109T000000
DTEND;TZID=UTC:20250109T235959
DTSTAMP:20260423T094412
CREATED:20250116T224343Z
LAST-MODIFIED:20250116T224343Z
UID:98-1736380800-1736467199@linkview.org
SUMMARY:Landscapers  Tree Pruning / Tent.
DESCRIPTION:
URL:https://linkview.org/event/landscapers-tree-pruning-tent/
END:VEVENT
BEGIN:VEVENT
DTSTART;TZID=UTC:20250107T000000
DTEND;TZID=UTC:20250107T235959
DTSTAMP:20260423T094412
CREATED:20250116T224343Z
LAST-MODIFIED:20250116T224343Z
UID:97-1736208000-1736294399@linkview.org
SUMMARY:Trash Pickup / Bulk Day
DESCRIPTION:
URL:https://linkview.org/event/trash-pickup-bulk-day/
END:VEVENT
BEGIN:VEVENT
DTSTART;TZID=UTC:20250102T000000
DTEND;TZID=UTC:20250102T235959
DTSTAMP:20260423T094412
CREATED:20250116T224343Z
LAST-MODIFIED:20250116T224343Z
UID:96-1735776000-1735862399@linkview.org
SUMMARY:Landscapers
DESCRIPTION:
URL:https://linkview.org/event/landscapers/
END:VEVENT
BEGIN:VEVENT
DTSTART;TZID=UTC:20241231T000000
DTEND;TZID=UTC:20241231T235959
DTSTAMP:20260423T094412
CREATED:20250116T224342Z
LAST-MODIFIED:20250116T224342Z
UID:95-1735603200-1735689599@linkview.org
SUMMARY:Trash Pickup
DESCRIPTION:
URL:https://linkview.org/event/trash-pickup/
END:VEVENT
END:VCALENDAR